BEGIN:VCALENDAR
VERSION:2.0
PRODID:-//The HIVE UAS Tech Accelerator in Grand Forks, ND - ECPv6.15.17//NONSGML v1.0//EN
CALSCALE:GREGORIAN
METHOD:PUBLISH
X-ORIGINAL-URL:https://www.hivegf.com
X-WR-CALDESC:Events for The HIVE UAS Tech Accelerator in Grand Forks, ND
REFRESH-INTERVAL;VALUE=DURATION:PT1H
X-Robots-Tag:noindex
X-PUBLISHED-TTL:PT1H
BEGIN:VTIMEZONE
TZID:America/Chicago
BEGIN:DAYLIGHT
TZOFFSETFROM:-0600
TZOFFSETTO:-0500
TZNAME:CDT
DTSTART:20220313T080000
END:DAYLIGHT
BEGIN:STANDARD
TZOFFSETFROM:-0500
TZOFFSETTO:-0600
TZNAME:CST
DTSTART:20221106T070000
END:STANDARD
BEGIN:DAYLIGHT
TZOFFSETFROM:-0600
TZOFFSETTO:-0500
TZNAME:CDT
DTSTART:20230312T080000
END:DAYLIGHT
BEGIN:STANDARD
TZOFFSETFROM:-0500
TZOFFSETTO:-0600
TZNAME:CST
DTSTART:20231105T070000
END:STANDARD
BEGIN:DAYLIGHT
TZOFFSETFROM:-0600
TZOFFSETTO:-0500
TZNAME:CDT
DTSTART:20240310T080000
END:DAYLIGHT
BEGIN:STANDARD
TZOFFSETFROM:-0500
TZOFFSETTO:-0600
TZNAME:CST
DTSTART:20241103T070000
END:STANDARD
BEGIN:DAYLIGHT
TZOFFSETFROM:-0600
TZOFFSETTO:-0500
TZNAME:CDT
DTSTART:20250309T080000
END:DAYLIGHT
BEGIN:STANDARD
TZOFFSETFROM:-0500
TZOFFSETTO:-0600
TZNAME:CST
DTSTART:20251102T070000
END:STANDARD
END:VTIMEZONE
BEGIN:VEVENT
DTSTART;TZID=America/Chicago:20240718T100000
DTEND;TZID=America/Chicago:20240718T150000
DTSTAMP:20260418T232947
CREATED:20240606T153707Z
LAST-MODIFIED:20240709T150243Z
UID:5278-1721296800-1721314800@www.hivegf.com
SUMMARY:Member-Only: Fargo Patent & Business Law Mentor @ the HIVE
DESCRIPTION:RESCHEDULED to 7/18/24 \nHIVE members have access to Fargo Patent & Business Law onsite mentorship and informal guidance on 1st Tuesday of each month from 10am to 3pm!
URL:https://www.hivegf.com/event/member-only-fargo-patent-business-law-mentor-the-hive/
ORGANIZER;CN="The HIVE":MAILTO:info@hivegf.com
END:VEVENT
BEGIN:VEVENT
DTSTART;TZID=America/Chicago:20240711T123000
DTEND;TZID=America/Chicago:20240711T133000
DTSTAMP:20260418T232947
CREATED:20240606T151548Z
LAST-MODIFIED:20240606T164616Z
UID:5267-1720701000-1720704600@www.hivegf.com
SUMMARY:Drones\, Code\, and People Podcast
DESCRIPTION:Tune in on the 2nd Wednesday of each month to catch the latest info\, interviews\, and insight into the world of UAS and autonomous systems. \nMade in partnership with  and
URL:https://www.hivegf.com/event/drones-code-and-people-podcast-2/
CATEGORIES:Guest Speaker
ATTACH;FMTTYPE=image/png:https://www.hivegf.com/wp-content/uploads/2024/06/Drones-Code-and-People-Podcast.png
END:VEVENT
BEGIN:VEVENT
DTSTART;TZID=America/Chicago:20240709T090000
DTEND;TZID=America/Chicago:20240709T100000
DTSTAMP:20260418T232947
CREATED:20240614T142518Z
LAST-MODIFIED:20240626T212131Z
UID:5298-1720515600-1720519200@www.hivegf.com
SUMMARY:Beyond the Buzz Webinar Series
DESCRIPTION:Join in on the 2nd Tuesday of each month at 9am. More details to ensue. \nPresented by
URL:https://www.hivegf.com/event/beyond-the-buzz-webinar-series/
LOCATION:The HIVE\, N 2nd St\, Grand Forks\, ND\, 58201\, United States
CATEGORIES:Technical Training
ATTACH;FMTTYPE=image/png:https://www.hivegf.com/wp-content/uploads/2024/06/TopicSpeaker-Graphic.png
END:VEVENT
BEGIN:VEVENT
DTSTART;TZID=America/Chicago:20240612T123000
DTEND;TZID=America/Chicago:20240612T133000
DTSTAMP:20260418T232947
CREATED:20240606T151441Z
LAST-MODIFIED:20240606T164635Z
UID:5265-1718195400-1718199000@www.hivegf.com
SUMMARY:Drones\, Code\, and People Podcast
DESCRIPTION:Tune in on the 2nd Wednesday of each month to catch the latest info\, interviews\, and insight into the world of UAS and autonomous systems. \nMade in partnership with  and
URL:https://www.hivegf.com/event/drones-code-and-people-podcast/
CATEGORIES:Guest Speaker
ATTACH;FMTTYPE=image/png:https://www.hivegf.com/wp-content/uploads/2024/06/Drones-Code-and-People-Podcast.png
END:VEVENT
BEGIN:VEVENT
DTSTART;TZID=America/Chicago:20240417T100000
DTEND;TZID=America/Chicago:20240417T120000
DTSTAMP:20260418T232947
CREATED:20240220T201216Z
LAST-MODIFIED:20240311T132817Z
UID:5008-1713348000-1713355200@www.hivegf.com
SUMMARY:Student Connection Event
DESCRIPTION:Held twice a year\, in fall & spring\, for students and UAS companies to connect. \nDate: April 17th\, 2024 from 10:00 AM to 12:00 PM\nFor: Current high school and college students looking into the field of UAS\, Engineering\, Coding\, and Technology\nPlace: The HIVE\, main lobby area 375 2nd Ave N\nParking: Central parking garage and on-street free to 2 hours \n\nOpportunity to network with UAS and Autonomous companies (both scale-ups and established)\nFind mentors from industry professionals\nLearn about jobs and internships\nIntegrate into the local UAS ecosystem in Grand Forks\n\nFree to attend!
URL:https://www.hivegf.com/event/studentconnectionevent/
LOCATION:The HIVE\, N 2nd St\, Grand Forks\, ND\, 58201\, United States
CATEGORIES:Student Connection
ORGANIZER;CN="The HIVE":MAILTO:info@hivegf.com
END:VEVENT
BEGIN:VEVENT
DTSTART;TZID=America/Chicago:20240314T163000
DTEND;TZID=America/Chicago:20240314T183000
DTSTAMP:20260418T232947
CREATED:20240130T220421Z
LAST-MODIFIED:20240220T201301Z
UID:4998-1710433800-1710441000@www.hivegf.com
SUMMARY:Mark Lindquist presented by DAG
DESCRIPTION:➡️➡️Register Here! ⬅️⬅️\nSpeaker Bio:\nMark J. Lindquist is a United States Air Force veteran who dropped everything and bought a plane ticket to Poland three weeks after Russia’s full-scale invasion of Ukraine in 2022.He figured that since it was clear that the United States of America was not going to send our soldiers to Ukraine\, maybe someone with US Military training could help. During the past 20 months in Ukraine\, Mark has partnered with trusted local Ukrainians all the way up to the Commander of the Ukrainian Air Force and the Minister of Defense to bring over $7million dollars of aid to the Ukrainian Army. \nHear about: \n\nAn insider’s perspective on the rapid advancement of drone technology on the battlefield\nInsight on adaptability of UAV technology and anti-jamming capabilities have evolved in the past 20 months\nHow the robust nature of the tech sector in Ukraine has supported the conditions on the battlefield\nObservations on the command and control structure of the Ukrainian Army has evolved and progress yet to be made\nCommunicate the needs of the Ukrainian Army and how the tech sector in America can support those needs\nDemining technology needs to dispose of mines on a piece of land the size of Florida\nChallenges that the soldier on the battlefield faces when technology from 25 different countries arrives on the frontlines\n\nDate: March 14\, 2024 \nTime: \n\n4:30pm presentation\n5:30pm – 6:30pm social hour with catering by Ground Round\n\nPresented by
URL:https://www.hivegf.com/event/marklindquist/
LOCATION:The HIVE\, N 2nd St\, Grand Forks\, ND\, 58201\, United States
CATEGORIES:Guest Speaker
END:VEVENT
BEGIN:VEVENT
DTSTART;TZID=America/Chicago:20240313T130000
DTEND;TZID=America/Chicago:20240314T150000
DTSTAMP:20260418T232947
CREATED:20231109T204657Z
LAST-MODIFIED:20240130T215558Z
UID:4862-1710334800-1710428400@www.hivegf.com
SUMMARY:MTSI: Digital Day at the HIVE
DESCRIPTION:Digital Modernization Strategies: Insights into Digital Transformation\, Cybersecurity\, and Model Based Systems Engineering presented by MTSI\n\nMarch 13 and 14\n\n👉👉Register to attend! 👈👈\n\n  \nJoin MTSI as we host a day and a half of exciting insights around Digital Modernization! Discussion will span Digital Engineering\, Digital Environment\, Digital Thread\, Digital Twin\, Digital Materiel Management\, DevSecOps\, Modular Open Systems Approaches\, Integrated Digital Environments\, and Agile/Digital Acquisition methods to better understand how they can improve design rigor\, capability delivery\, speed to market\, production\, sustainment\, and security within your organizations. \nWed\, 13 March 2024 (Audience: Senior Leaders & Managers)\n• 1300 – 1305: Opening Remarks\n• 1305 – 1330: Intro/Kick-off\n• 1330 – 1530: Foundations for Enabling Digital Transformation (Part 1)\n• 1530 – 1545: Break (coffee and refreshments in Hive kitchen area)\n• 1545 – 1730: Foundations for Enabling Digital Transformation (Part 2)\n• 1730 – 1830: Reception (The Hive lobby/kitchen area) \nThurs\, 14 March 2024 (Audience: Junior & Mid-level Engineers)\n• 0830 – 0900: Coffee\n• 0900 – 0930: Intro/Kick-off\n• 0930 – 1130: Intro to Model Based Systems Engineering (MBSE)\n• 1130 – 1230: Lunch Break\n• 1230 – 1500: Track 1 – SysML Fundamentals\n• 1230 – 1500: Track 2 – Cyber Physical Security: Culture\, Candy Shells\, & Cyber Attack Methods\n*All sessions will be available via in-person or virtual except Cyber Physical Security (in-person only)\n**Course descriptions & objectives can be found by clicking “RSVP Now”.\n***Registration window will open by 8:00 am\, 1 Feb 2024.
URL:https://www.hivegf.com/event/mtsidigital/
LOCATION:The HIVE\, N 2nd St\, Grand Forks\, ND\, 58201\, United States
CATEGORIES:Technical Training,Training
ATTACH;FMTTYPE=image/png:https://www.hivegf.com/wp-content/uploads/2023/11/MTSI-digital-transformation-event.png
END:VEVENT
BEGIN:VEVENT
DTSTART;TZID=America/Chicago:20231201T100000
DTEND;TZID=America/Chicago:20231201T120000
DTSTAMP:20260418T232947
CREATED:20231122T194205Z
LAST-MODIFIED:20231122T200356Z
UID:4913-1701424800-1701432000@www.hivegf.com
SUMMARY:Student Connection Event
DESCRIPTION:
URL:https://www.hivegf.com/event/student-connection-event/
LOCATION:The HIVE\, N 2nd St\, Grand Forks\, ND\, 58201\, United States
CATEGORIES:Student Connection
ORGANIZER;CN="The HIVE":MAILTO:info@hivegf.com
END:VEVENT
BEGIN:VEVENT
DTSTART;VALUE=DATE:20231010
DTEND;VALUE=DATE:20231012
DTSTAMP:20260418T232947
CREATED:20230810T192025Z
LAST-MODIFIED:20230810T192202Z
UID:4321-1696896000-1697068799@www.hivegf.com
SUMMARY:BBI UAS Summit & Expo
DESCRIPTION:Visit our HIVE table\, meet our Director\, and learn more about Grand Forks’ very own UAS/Autonomous Hybrid Tech Accelerator. \nTune into our discussion on Wednesday\, October 11th \n\n\n\n12:00 pm – 12:30 pm\nWhat the Buzz All About? A Discussion with The HIVE\nModerator: Bill Adams\, Grand Forks Economic Development Corporation \n\nJohnny Ryan\, The HIVE\nMayor Brandon Bochenski\, City of Grand Forks\nNed Tabat\, The HIVE Tenant – Meadowlark Aircraft Company
URL:https://www.hivegf.com/event/bbi-uas-summit-expo/
LOCATION:Alerus Center\, 1200 S 42nd St\, Grand Forks\, ND\, 58201
END:VEVENT
BEGIN:VEVENT
DTSTART;TZID=America/Chicago:20230706T173000
DTEND;TZID=America/Chicago:20230706T210000
DTSTAMP:20260418T232947
CREATED:20230206T165712Z
LAST-MODIFIED:20230707T155512Z
UID:2876-1688664600-1688677200@www.hivegf.com
SUMMARY:gBeta Event
DESCRIPTION:Summer 2023 \ngBeta will be live at the HIVE with a variety of companies and presentations. gBETA help startups build the skills they need to be a successful entrepreneur and run a successful company! Learn more by clicking on the image below.
URL:https://www.hivegf.com/event/gbetajuly/
LOCATION:The HIVE\, N 2nd St\, Grand Forks\, ND\, 58201\, United States
END:VEVENT
END:VCALENDAR