BEGIN:VCALENDAR
VERSION:2.0
PRODID:-//The HIVE UAS Tech Accelerator in Grand Forks, ND - ECPv6.15.17//NONSGML v1.0//EN
CALSCALE:GREGORIAN
METHOD:PUBLISH
X-ORIGINAL-URL:https://www.hivegf.com
X-WR-CALDESC:Events for The HIVE UAS Tech Accelerator in Grand Forks, ND
REFRESH-INTERVAL;VALUE=DURATION:PT1H
X-Robots-Tag:noindex
X-PUBLISHED-TTL:PT1H
BEGIN:VTIMEZONE
TZID:America/Chicago
BEGIN:DAYLIGHT
TZOFFSETFROM:-0600
TZOFFSETTO:-0500
TZNAME:CDT
DTSTART:20230312T080000
END:DAYLIGHT
BEGIN:STANDARD
TZOFFSETFROM:-0500
TZOFFSETTO:-0600
TZNAME:CST
DTSTART:20231105T070000
END:STANDARD
BEGIN:DAYLIGHT
TZOFFSETFROM:-0600
TZOFFSETTO:-0500
TZNAME:CDT
DTSTART:20240310T080000
END:DAYLIGHT
BEGIN:STANDARD
TZOFFSETFROM:-0500
TZOFFSETTO:-0600
TZNAME:CST
DTSTART:20241103T070000
END:STANDARD
BEGIN:DAYLIGHT
TZOFFSETFROM:-0600
TZOFFSETTO:-0500
TZNAME:CDT
DTSTART:20250309T080000
END:DAYLIGHT
BEGIN:STANDARD
TZOFFSETFROM:-0500
TZOFFSETTO:-0600
TZNAME:CST
DTSTART:20251102T070000
END:STANDARD
END:VTIMEZONE
BEGIN:VEVENT
DTSTART;TZID=America/Chicago:20241204T123000
DTEND;TZID=America/Chicago:20241204T133000
DTSTAMP:20260418T234354
CREATED:20240606T151936Z
LAST-MODIFIED:20240826T205429Z
UID:5276-1733315400-1733319000@www.hivegf.com
SUMMARY:Drones\, Code\, and People Podcast
DESCRIPTION:Tune in on the 1st Wednesday of each month to catch the latest info\, interviews\, and insight into the world of UAS and autonomous systems. \nMade in partnership with  and
URL:https://www.hivegf.com/event/drones-code-and-people-podcast-5/
CATEGORIES:Guest Speaker
ATTACH;FMTTYPE=image/png:https://www.hivegf.com/wp-content/uploads/2024/06/Drones-Code-and-People-Podcast.png
END:VEVENT
BEGIN:VEVENT
DTSTART;TZID=America/Chicago:20241106T123000
DTEND;TZID=America/Chicago:20241106T133000
DTSTAMP:20260418T234354
CREATED:20240606T151849Z
LAST-MODIFIED:20240826T205341Z
UID:5274-1730896200-1730899800@www.hivegf.com
SUMMARY:Drones\, Code\, and People Podcast
DESCRIPTION:Tune in on the 1st Wednesday of each month to catch the latest info\, interviews\, and insight into the world of UAS and autonomous systems. \nMade in partnership with  and
URL:https://www.hivegf.com/event/drones-code-and-people-podcast-4/
CATEGORIES:Guest Speaker
ATTACH;FMTTYPE=image/png:https://www.hivegf.com/wp-content/uploads/2024/06/Drones-Code-and-People-Podcast.png
END:VEVENT
BEGIN:VEVENT
DTSTART;TZID=America/Chicago:20240904T123000
DTEND;TZID=America/Chicago:20240904T133000
DTSTAMP:20260418T234354
CREATED:20240606T151741Z
LAST-MODIFIED:20240826T205303Z
UID:5271-1725453000-1725456600@www.hivegf.com
SUMMARY:Drones\, Code\, and People Podcast
DESCRIPTION:Tune in on the 1st Wednesday of each month to catch the latest info\, interviews\, and insight into the world of UAS and autonomous systems. \nMade in partnership with  and
URL:https://www.hivegf.com/event/drones-code-and-people/
CATEGORIES:Guest Speaker
ATTACH;FMTTYPE=image/png:https://www.hivegf.com/wp-content/uploads/2024/06/Drones-Code-and-People-Podcast.png
END:VEVENT
BEGIN:VEVENT
DTSTART;TZID=America/Chicago:20240814T123000
DTEND;TZID=America/Chicago:20240814T133000
DTSTAMP:20260418T234354
CREATED:20240606T151700Z
LAST-MODIFIED:20240606T164545Z
UID:5269-1723638600-1723642200@www.hivegf.com
SUMMARY:Drones\, Code\, and People Podcast
DESCRIPTION:Tune in on the 2nd Wednesday of each month to catch the latest info\, interviews\, and insight into the world of UAS and autonomous systems. \nMade in partnership with  and
URL:https://www.hivegf.com/event/drones-code-and-people-podcast-3/
CATEGORIES:Guest Speaker
ATTACH;FMTTYPE=image/png:https://www.hivegf.com/wp-content/uploads/2024/06/Drones-Code-and-People-Podcast.png
END:VEVENT
BEGIN:VEVENT
DTSTART;TZID=America/Chicago:20240711T123000
DTEND;TZID=America/Chicago:20240711T133000
DTSTAMP:20260418T234354
CREATED:20240606T151548Z
LAST-MODIFIED:20240606T164616Z
UID:5267-1720701000-1720704600@www.hivegf.com
SUMMARY:Drones\, Code\, and People Podcast
DESCRIPTION:Tune in on the 2nd Wednesday of each month to catch the latest info\, interviews\, and insight into the world of UAS and autonomous systems. \nMade in partnership with  and
URL:https://www.hivegf.com/event/drones-code-and-people-podcast-2/
CATEGORIES:Guest Speaker
ATTACH;FMTTYPE=image/png:https://www.hivegf.com/wp-content/uploads/2024/06/Drones-Code-and-People-Podcast.png
END:VEVENT
BEGIN:VEVENT
DTSTART;TZID=America/Chicago:20240612T123000
DTEND;TZID=America/Chicago:20240612T133000
DTSTAMP:20260418T234354
CREATED:20240606T151441Z
LAST-MODIFIED:20240606T164635Z
UID:5265-1718195400-1718199000@www.hivegf.com
SUMMARY:Drones\, Code\, and People Podcast
DESCRIPTION:Tune in on the 2nd Wednesday of each month to catch the latest info\, interviews\, and insight into the world of UAS and autonomous systems. \nMade in partnership with  and
URL:https://www.hivegf.com/event/drones-code-and-people-podcast/
CATEGORIES:Guest Speaker
ATTACH;FMTTYPE=image/png:https://www.hivegf.com/wp-content/uploads/2024/06/Drones-Code-and-People-Podcast.png
END:VEVENT
BEGIN:VEVENT
DTSTART;TZID=America/Chicago:20240314T163000
DTEND;TZID=America/Chicago:20240314T183000
DTSTAMP:20260418T234354
CREATED:20240130T220421Z
LAST-MODIFIED:20240220T201301Z
UID:4998-1710433800-1710441000@www.hivegf.com
SUMMARY:Mark Lindquist presented by DAG
DESCRIPTION:➡️➡️Register Here! ⬅️⬅️\nSpeaker Bio:\nMark J. Lindquist is a United States Air Force veteran who dropped everything and bought a plane ticket to Poland three weeks after Russia’s full-scale invasion of Ukraine in 2022.He figured that since it was clear that the United States of America was not going to send our soldiers to Ukraine\, maybe someone with US Military training could help. During the past 20 months in Ukraine\, Mark has partnered with trusted local Ukrainians all the way up to the Commander of the Ukrainian Air Force and the Minister of Defense to bring over $7million dollars of aid to the Ukrainian Army. \nHear about: \n\nAn insider’s perspective on the rapid advancement of drone technology on the battlefield\nInsight on adaptability of UAV technology and anti-jamming capabilities have evolved in the past 20 months\nHow the robust nature of the tech sector in Ukraine has supported the conditions on the battlefield\nObservations on the command and control structure of the Ukrainian Army has evolved and progress yet to be made\nCommunicate the needs of the Ukrainian Army and how the tech sector in America can support those needs\nDemining technology needs to dispose of mines on a piece of land the size of Florida\nChallenges that the soldier on the battlefield faces when technology from 25 different countries arrives on the frontlines\n\nDate: March 14\, 2024 \nTime: \n\n4:30pm presentation\n5:30pm – 6:30pm social hour with catering by Ground Round\n\nPresented by
URL:https://www.hivegf.com/event/marklindquist/
LOCATION:The HIVE\, N 2nd St\, Grand Forks\, ND\, 58201\, United States
CATEGORIES:Guest Speaker
END:VEVENT
END:VCALENDAR